BEGIN:VCALENDAR
VERSION:2.0
PRODID:-//ChamberMaster//Event Calendar 2.0//EN
METHOD:PUBLISH
X-PUBLISHED-TTL:P1H
REFRESH-INTERVAL:P1H
CALSCALE:GREGORIAN
BEGIN:VTIMEZONE
TZID:America/Los_Angeles
BEGIN:DAYLIGHT
RRULE:FREQ=YEARLY;BYMONTH=3;BYDAY=2SU
DTSTART:20070101T000000
TZOFFSETFROM:-0800
TZOFFSETTO:-0700
TZNAME:Pacific Daylight Time
END:DAYLIGHT
BEGIN:STANDARD
RRULE:FREQ=YEARLY;BYMONTH=11;BYDAY=1SU
DTSTART:20070101T000000
TZOFFSETFROM:-0700
TZOFFSETTO:-0800
TZNAME:Pacific Standard Time
END:STANDARD
END:VTIMEZONE
BEGIN:VEVENT
DTSTART;TZID=America/Los_Angeles:20260423T120000
DTEND;TZID=America/Los_Angeles:20260423T125000
X-MICROSOFT-CDO-ALLDAYEVENT:FALSE
SUMMARY:Free Webinar: Effective Onboarding and Training of California Employees By Employment Law Firm LightGabler LLP
DESCRIPTION:Employment law firm LightGabler LLP is presenting a free\, live webinar for employers on “Effective Onboarding and Training of California Employees.” The webinar will be held on Thursday\, April 23\, from 12:00 p.m. to 12:50 p.m. \n\nFor California employers\, effective onboarding practices\, comprehensive new-hire paperwork\, and setting clear expectations are key to setting up future success in the employment relationship.\n \nIn this webinar for employers\, supervisors and human resource professionals\, employment law attorney Kathleen Fellows will discuss recommendations for effective onboarding and initial training of California employees. Discussion topics will include new hire documents\, key agreements\, orientation\, timekeeping issues and introductory periods.\n\nRegister by going to https://www.lightgablerlaw.com/seminars. Login instructions will be provided prior to the program.
X-ALT-DESC;FMTTYPE=text/html:Employment law firm LightGabler LLP is presenting a free\, live webinar for employers on “Effective Onboarding and Training of California Employees.” The webinar will be held on Thursday\, April 23\, from 12:00 p.m. to 12:50 p.m. \n\nFor California employers\, effective onboarding practices\, comprehensive new-hire paperwork\, and setting clear expectations are key to setting up future success in the employment relationship.\n \nIn this webinar for employers\, supervisors and human resource professionals\, employment law attorney Kathleen Fellows will discuss recommendations for effective onboarding and initial training of California employees. Discussion topics will include new hire documents\, key agreements\, orientation\, timekeeping issues and introductory periods.\n\nRegister by going to https://www.lightgablerlaw.com/seminars. Login instructions will be provided prior to the program.
LOCATION:
UID:e.2215.1439179
SEQUENCE:3
DTSTAMP:20260421T100059Z
URL:https://members.slochamber.org/communityevents/Details/free-webinar-effective-onboarding-and-training-of-california-employees-by-employment-law-firm-lightgabler-llp-1703398?sourceTypeId=Hub
END:VEVENT
END:VCALENDAR
