BEGIN:VCALENDAR
VERSION:2.0
PRODID:-//ChamberMaster//Event Calendar 2.0//EN
METHOD:PUBLISH
X-PUBLISHED-TTL:P1H
REFRESH-INTERVAL:P1H
CALSCALE:GREGORIAN
BEGIN:VTIMEZONE
TZID:America/Los_Angeles
BEGIN:DAYLIGHT
RRULE:FREQ=YEARLY;BYMONTH=3;BYDAY=2SU
DTSTART:20070101T000000
TZOFFSETFROM:-0800
TZOFFSETTO:-0700
TZNAME:Pacific Daylight Time
END:DAYLIGHT
BEGIN:STANDARD
RRULE:FREQ=YEARLY;BYMONTH=11;BYDAY=1SU
DTSTART:20070101T000000
TZOFFSETFROM:-0700
TZOFFSETTO:-0800
TZNAME:Pacific Standard Time
END:STANDARD
END:VTIMEZONE
BEGIN:VEVENT
DTSTART;TZID=America/Los_Angeles:20260414T100000
DTEND;TZID=America/Los_Angeles:20260414T110000
X-MICROSOFT-CDO-ALLDAYEVENT:FALSE
SUMMARY:How to Plan for a Successful Business Exit
DESCRIPTION:Planning for a successful business exit is one of the most important and often overlooked parts of building a business. Whether you're years away from exiting or just beginning to think about what's next\, having a clear strategy in place can help you maximize value\, protect your wealth\, and transition on your own terms. This virtual workshop led by Chad Kihm will provide a practical overview of the exit planning process and the key decisions that shape both your financial and personal outcomes. You'll walk away with: A clear understanding of what an exit plan is and why it matters Insight into the six-step exit planning process\, including setting goals\, evaluating readiness\, and exploring your options An understanding of your "value gap" and how it impacts your exit An overview of valuation methods\, M&A fees\, and key financial considerations Guidance on buy/sell agreements and how to build the right advisory team About the Speaker: Chad Kihm is a Private Wealth Advisor who works with ultra-high-net-worth\, family-oriented business owners. He helps clients align their financial strategies with their personal values enabling them to spend more time with family while protecting and preserving wealth for future generations. Instructions: This workshop is virtual and attendance is offered via Zoom. A Zoom link will be provided to registrants three days prior to the workshop and again on the morning of the session so you can join us online. Register Here: https://ucmsbdc.ecenterdirect.com/events/16841
X-ALT-DESC;FMTTYPE=text/html:<!DOCTYPE html><html><head><title></title></head><body aria-disabled="false"><p>Planning for a successful business exit is one of the most important and often overlooked parts of building a business. Whether you&rsquo\;re years away from exiting or just beginning to think about what&rsquo\;s next\, having a clear strategy in place can help you maximize value\, protect your wealth\, and transition on your own terms. This virtual workshop led by Chad Kihm will provide a practical overview of the exit planning process and the key decisions that shape both your financial and personal outcomes.&nbsp\;</p><p>You&rsquo\;ll walk away with:&nbsp\;</p><p>A clear understanding of what an exit plan is and why it matters Insight into the six-step exit planning process\, including setting goals\, evaluating readiness\, and exploring your options&nbsp\;</p><p>An understanding of your &ldquo\;value gap&rdquo\; and how it impacts your exit&nbsp\;</p><p>An overview of valuation methods\, M&amp\;A fees\, and key financial considerations&nbsp\;</p><p>Guidance on buy/sell agreements and how to build the right advisory team&nbsp\;</p><p>About the Speaker:&nbsp\;</p><p>Chad Kihm is a Private Wealth Advisor who works with ultra-high-net-worth\, family-oriented business owners. He helps clients align their financial strategies with their personal values&mdash\;enabling them to spend more time with family while protecting and preserving wealth for future generations. Instructions:&nbsp\;</p><p>This workshop is virtual and attendance is offered via Zoom. A Zoom link will be provided to registrants three days prior to the workshop and again on the morning of the session so you can join us online.&nbsp\;</p><p>Register Here: https://ucmsbdc.ecenterdirect.com/events/16841</p></body></html>
LOCATION:
UID:e.2215.1438121
SEQUENCE:3
DTSTAMP:20260421T100030Z
URL:https://members.slochamber.org/communityevents/Details/how-to-plan-for-a-successful-business-exit-1702134?sourceTypeId=Hub
END:VEVENT
END:VCALENDAR
